BEGIN:VCALENDAR
VERSION:2.0
PRODID:-// - ECPv6.15.20//NONSGML v1.0//EN
CALSCALE:GREGORIAN
METHOD:PUBLISH
X-ORIGINAL-URL:https://concertbusesireland.ie
X-WR-CALDESC:Events for 
REFRESH-INTERVAL;VALUE=DURATION:PT1H
X-Robots-Tag:noindex
X-PUBLISHED-TTL:PT1H
BEGIN:VTIMEZONE
TZID:Europe/Dublin
BEGIN:STANDARD
TZOFFSETFROM:+0000
TZOFFSETTO:+0100
TZNAME:IST
DTSTART:20240331T010000
END:STANDARD
BEGIN:DAYLIGHT
TZOFFSETFROM:+0100
TZOFFSETTO:+0000
TZNAME:GMT
DTSTART:20241027T010000
END:DAYLIGHT
BEGIN:STANDARD
TZOFFSETFROM:+0000
TZOFFSETTO:+0100
TZNAME:IST
DTSTART:20250330T010000
END:STANDARD
BEGIN:DAYLIGHT
TZOFFSETFROM:+0100
TZOFFSETTO:+0000
TZNAME:GMT
DTSTART:20251026T010000
END:DAYLIGHT
BEGIN:STANDARD
TZOFFSETFROM:+0000
TZOFFSETTO:+0100
TZNAME:IST
DTSTART:20260329T010000
END:STANDARD
BEGIN:DAYLIGHT
TZOFFSETFROM:+0100
TZOFFSETTO:+0000
TZNAME:GMT
DTSTART:20261025T010000
END:DAYLIGHT
END:VTIMEZONE
BEGIN:VEVENT
DTSTART;TZID=Europe/Dublin:20250701T170000
DTEND;TZID=Europe/Dublin:20250701T190000
DTSTAMP:20260425T045754
CREATED:20250205T000150Z
LAST-MODIFIED:20251007T145022Z
UID:10000011-1751389200-1751396400@concertbusesireland.ie
SUMMARY:Bus to Noah Kahan Marlay Park Dublin | July 1
DESCRIPTION:NOTE: When filling out the address form: \nSTATE: Enter your County (e.g.\, Meath).\nCITY: Enter your Town or Village (e.g.\, Duleek).\nZIP/POSTAL: Enter your Eircode (e.g.\, A65 F4E2)." \nWhere to find your Eircode: https://finder.eircode.ie \n\n\n\n\n\n€25.00\nReturn Bus to Bus to Noah Kahan Marlay Park Dublin 2025 \n\n\n\n\nDon’t miss Noah Kahan's concert at Marlay Park on July 1\, 2025—it’s a night to remember! With rising hotel rates and petrol costs\, booking a concert coach is the smartest and most convenient way to travel.\n\nOur service bus to Marlay Park includes a return trip\, with pricing that covers transportation to and from the event. While one-way tickets aren’t available\, you’re welcome to use this service for a single journey. Simply add a note during booking to inform the driver not to expect you for the return trip.\n\nMake your travel hassle-free and focus on enjoying Noah Kahan! Book your seat today with Concert Buses Ireland.\n\n 	✓ Return Bus – Price includes both ways!\n 	✓ E-Ticket (Instant direct to your email)\n 	✘ No Toilets On Bus\n 	✘ No Alcoholic Beverages On Bus\n\n \nPick Up Locations\nMeath:\n\n 	Stop 1: Nannys Bar & Restaurant Duleek\n 	Stop 2: Pillo Hotel Ashbourne\n\nLouth:\n\n 	Stop 1: The Punt Pub Drogheda\n 	Stop 2: The Railway Tavern Bus Stop Drogheda
URL:https://concertbusesireland.ie/event/noah-kahan/
LOCATION:Marlay Park\, Grange Rd\, Rathfarnham\, Dublin 16\, D14 Y6X5\,\, Ireland
CATEGORIES:Concerts
ATTACH;FMTTYPE=image/jpeg:https://concertbusesireland.ie/wp-content/uploads/2025/01/Banner-21-scaled.jpg
END:VEVENT
BEGIN:VEVENT
DTSTART;TZID=Europe/Dublin:20250726T173000
DTEND;TZID=Europe/Dublin:20250726T200000
DTSTAMP:20260425T045754
CREATED:20250205T001214Z
LAST-MODIFIED:20251124T161125Z
UID:10000012-1753551000-1753560000@concertbusesireland.ie
SUMMARY:Bus to Billie Eilish 3Arena Dublin | July 26
DESCRIPTION:NOTE: When filling out the address form: \nSTATE: Enter your County (e.g.\, Meath).\nCITY: Enter your Town or Village (e.g.\, Duleek).\nZIP/POSTAL: Enter your Eircode (e.g.\, A65 F4E2)." \nWhere to find your Eircode: https://finder.eircode.ie \n\n\n\n\n\n€25.00\nReturn Bus to Bus to Billie Eilish 3Arena Dublin 2025 \n\n\n\n\nDon’t miss Billie Eilish's concert at 3Arena on July 26\, 2025—it’s a night to remember! With rising hotel rates and petrol costs\, booking a concert bus to 3Arena is the smartest and most convenient way to travel.\n\nOur service includes a return trip\, with pricing that covers transportation to and from the event. While one-way tickets aren’t available\, you’re welcome to use this service for a single journey. Simply add a note during booking to inform the driver not to expect you for the return trip.\n\nMake your travel hassle-free and focus on enjoying Billie Eilish! Book your seat today with Concert Buses Ireland.\n\n 	✓ Return Bus – Price includes both ways!\n 	✓ E-Ticket (Instant direct to your email)\n 	✘ No Toilets On Bus\n 	✘ No Alcoholic Beverages On Bus\n\n \nPick Up Locations\nMeath:\n\n 	Stop 1: Nannys Bar & Restaurant Duleek\n 	Stop 2: Pillo Hotel Ashbourne\n\nLouth:\n\n 	Stop 1: The Punt Pub Drogheda\n 	Stop 2: The Railway Tavern Bus Stop Drogheda\n\nIf you’re planning to extend your concert season\, don’t miss our bus to Oasis concert and bus to Robbie Williams show on August 16\, and August 23 respectively.
URL:https://concertbusesireland.ie/event/billie-eilish/
LOCATION:3Arena\, N Wall Quay\,\, Dublin\, Ireland
CATEGORIES:Concerts
ATTACH;FMTTYPE=image/png:https://concertbusesireland.ie/wp-content/uploads/2025/02/BILLIE-scaled.png
END:VEVENT
BEGIN:VEVENT
DTSTART;TZID=Europe/Dublin:20250727T173000
DTEND;TZID=Europe/Dublin:20250727T200000
DTSTAMP:20260425T045754
CREATED:20250217T160545Z
LAST-MODIFIED:20251124T161151Z
UID:10000019-1753637400-1753646400@concertbusesireland.ie
SUMMARY:Bus to Billie Eilish 3Arena Dublin | July 27
DESCRIPTION:NOTE: When filling out the address form: \nSTATE: Enter your County (e.g.\, Meath).\nCITY: Enter your Town or Village (e.g.\, Duleek).\nZIP/POSTAL: Enter your Eircode (e.g.\, A65 F4E2)." \nWhere to find your Eircode: https://finder.eircode.ie \n\n\n\n\n\n€25.00\nReturn Bus to Bus to Billie Eilish 3Arena Dublin 2025 \n\n\n\n\nDon’t miss Billie Eilish's concert at 3Arena on July 27\, 2025—it’s a night to remember! With rising hotel rates and petrol costs\, booking a concert bus to 3Arena is the smartest and most convenient way to travel.\n\nOur service includes a return trip\, with pricing that covers transportation to and from the event. While one-way tickets aren’t available\, you’re welcome to use this service for a single journey. Simply add a note during booking to inform the driver not to expect you for the return trip.\n\nMake your travel hassle-free and focus on enjoying Billie Eilish! Book your seat today with Concert Buses Ireland.\n\n 	✓ Return Bus – Price includes both ways!\n 	✓ E-Ticket (Instant direct to your email)\n 	✘ No Toilets On Bus\n 	✘ No Alcoholic Beverages On Bus\n\n \nPick Up Locations\nMeath:\n\n 	Stop 1: Nanny's Bar & Restaurant Duleek\n 	Stop 2: Pillo Hotel Ashbourne\n\nLouth:\n\n 	Stop 1: The Punt Pub Drogheda\n 	Stop 2: The Railway Tavern Bus Stop Drogheda
URL:https://concertbusesireland.ie/event/billie-eilish-2/
LOCATION:3Arena\, N Wall Quay\,\, Dublin\, Ireland
CATEGORIES:Concerts
ATTACH;FMTTYPE=image/png:https://concertbusesireland.ie/wp-content/uploads/2025/02/BILLIE-1-scaled.png
END:VEVENT
END:VCALENDAR