BEGIN:VCALENDAR
VERSION:2.0
PRODID:-// - ECPv6.15.20//NONSGML v1.0//EN
CALSCALE:GREGORIAN
METHOD:PUBLISH
X-ORIGINAL-URL:https://concertbusesireland.ie
X-WR-CALDESC:Events for 
REFRESH-INTERVAL;VALUE=DURATION:PT1H
X-Robots-Tag:noindex
X-PUBLISHED-TTL:PT1H
BEGIN:VTIMEZONE
TZID:Europe/Dublin
BEGIN:STANDARD
TZOFFSETFROM:+0000
TZOFFSETTO:+0100
TZNAME:IST
DTSTART:20240331T010000
END:STANDARD
BEGIN:DAYLIGHT
TZOFFSETFROM:+0100
TZOFFSETTO:+0000
TZNAME:GMT
DTSTART:20241027T010000
END:DAYLIGHT
BEGIN:STANDARD
TZOFFSETFROM:+0000
TZOFFSETTO:+0100
TZNAME:IST
DTSTART:20250330T010000
END:STANDARD
BEGIN:DAYLIGHT
TZOFFSETFROM:+0100
TZOFFSETTO:+0000
TZNAME:GMT
DTSTART:20251026T010000
END:DAYLIGHT
BEGIN:STANDARD
TZOFFSETFROM:+0000
TZOFFSETTO:+0100
TZNAME:IST
DTSTART:20260329T010000
END:STANDARD
BEGIN:DAYLIGHT
TZOFFSETFROM:+0100
TZOFFSETTO:+0000
TZNAME:GMT
DTSTART:20261025T010000
END:DAYLIGHT
END:VTIMEZONE
BEGIN:VEVENT
DTSTART;TZID=Europe/Dublin:20250816T163000
DTEND;TZID=Europe/Dublin:20250816T183000
DTSTAMP:20260425T045801
CREATED:20250205T002925Z
LAST-MODIFIED:20251124T151715Z
UID:10000013-1755361800-1755369000@concertbusesireland.ie
SUMMARY:Bus to OASIS Croke Park Dublin | August 16
DESCRIPTION:NOTE: When filling out the address form: \nSTATE: Enter your County (e.g.\, Meath).\nCITY: Enter your Town or Village (e.g.\, Duleek).\nZIP/POSTAL: Enter your Eircode (e.g.\, A65 F4E2)." \nWhere to find your Eircode: https://finder.eircode.ie \n\n\n\n\n\n€25.00\nReturn Bus to OASIS Croke Park Dublin 2025 \n\n\n\n\nDon’t miss the OASIS concert at Croke Park on August 16\, 2025. It will be a night to remember! Our service to the Oasis gig caters to passengers traveling from Duleek and Ashbourne in Meath\, as well as from Drogheda in Louth! With rising hotel rates and petrol costs\, booking a concert coach is the smartest and most convenient way to travel.\n\nOur service to the Oasis show includes a return trip\, with pricing that covers transportation to and from the event. While one-way tickets aren’t available\, you’re welcome to use the bus Croke Park for a single journey. Simply add a note during booking to inform the driver not to expect you for the return trip.\n\nMake your travel hassle-free and focus on enjoying OASIS live! Book your seat to the Oasis show today with Concert Buses Ireland.\n\n 	✓ Return Bus – Price includes both ways!\n 	✓ E-Ticket (Instant direct to your email)\n 	✘ No Toilets On Bus\n 	✘ No Alcoholic Beverages On Bus\n\n \nPick Up Locations\nMeath:\n\n 	Stop 1: Nannys Bar & Restaurant Duleek\n 	Stop 2: Pillo Hotel Ashbourne\n\nLouth:\n\n 	Stop 1: The Punt Pub Drogheda\n 	Stop 2: The Railway Tavern Bus Stop Drogheda\n\nOur drop off is just a short walking route from the venue's main street. Book your bus to Oasis now and enjoy a convenient coach travel. Planning to catch more than one show this August? We also have a dedicated bus to Electric Picnic\, Ireland’s biggest festival happening in the same month.
URL:https://concertbusesireland.ie/event/oasis/
LOCATION:Croke Park\, Jones' Rd\, Drumcondra\, Dublin 3\,\, Ireland
CATEGORIES:Concerts
ATTACH;FMTTYPE=image/png:https://concertbusesireland.ie/wp-content/uploads/2025/02/OASIS-scaled.png
END:VEVENT
END:VCALENDAR