BEGIN:VCALENDAR
VERSION:2.0
PRODID:-// - ECPv6.15.20//NONSGML v1.0//EN
CALSCALE:GREGORIAN
METHOD:PUBLISH
X-ORIGINAL-URL:https://concertbusesireland.ie
X-WR-CALDESC:Events for 
REFRESH-INTERVAL;VALUE=DURATION:PT1H
X-Robots-Tag:noindex
X-PUBLISHED-TTL:PT1H
BEGIN:VTIMEZONE
TZID:Europe/Dublin
BEGIN:STANDARD
TZOFFSETFROM:+0000
TZOFFSETTO:+0100
TZNAME:IST
DTSTART:20240331T010000
END:STANDARD
BEGIN:DAYLIGHT
TZOFFSETFROM:+0100
TZOFFSETTO:+0000
TZNAME:GMT
DTSTART:20241027T010000
END:DAYLIGHT
BEGIN:STANDARD
TZOFFSETFROM:+0000
TZOFFSETTO:+0100
TZNAME:IST
DTSTART:20250330T010000
END:STANDARD
BEGIN:DAYLIGHT
TZOFFSETFROM:+0100
TZOFFSETTO:+0000
TZNAME:GMT
DTSTART:20251026T010000
END:DAYLIGHT
BEGIN:STANDARD
TZOFFSETFROM:+0000
TZOFFSETTO:+0100
TZNAME:IST
DTSTART:20260329T010000
END:STANDARD
BEGIN:DAYLIGHT
TZOFFSETFROM:+0100
TZOFFSETTO:+0000
TZNAME:GMT
DTSTART:20261025T010000
END:DAYLIGHT
END:VTIMEZONE
BEGIN:VEVENT
DTSTART;TZID=Europe/Dublin:20250823T000000
DTEND;TZID=Europe/Dublin:20250823T235959
DTSTAMP:20260425T045918
CREATED:20250205T004220Z
LAST-MODIFIED:20250822T144937Z
UID:10000014-1755907200-1755993599@concertbusesireland.ie
SUMMARY:Bus to Robbie Williams Croke Park Dublin 2025
DESCRIPTION:NOTE: When filling out the address form: \nSTATE: Enter your County (e.g.\, Meath).\nCITY: Enter your Town or Village (e.g.\, Duleek).\nZIP/POSTAL: Enter your Eircode (e.g.\, A65 F4E2)." \nWhere to find your Eircode: https://finder.eircode.ie \nWhen you purchase a ticket on Concert Buses Ireland\, you agree to our Terms & Conditions!\n\n\n\n\n€25.00\nReturn Bus to Robbie Williams Croke Park Dublin 2025 \n\n\n\n\nDon’t miss Robbie Williams' concert at Croke Park on August 23\, 2025—it’s a night to remember!\n\nOur coach service offers easy access and a return coach travel option for fans traveling from Meath and Louth. With rising hotel rates and petrol costs\, booking a concert coach is the smartest and most convenient way to travel. Skip the hassle of parking and traffic. Simply board at your chosen pick-up point\, whether in Meath or in Louth\, based on your preferences during the availability search. Hopping on to our bus to the Robbie Williams concert gives you plenty of time before entry\, so you’ll arrive relaxed and ready to enjoy the artist's performance.\n\nThis specific service for the upcoming event includes a return trip\, with pricing that covers transportation to and from the location. While one-way tickets aren’t available\, you’re welcome to use this service for a single journey. Simply add a note during booking to inform the driver not to expect you for the return trip. This is the tour you won’t want to miss.\n\nMake your travel hassle-free and make it an unforgettable night of showmanship at the Robbie Williams concert! Book your seat in advance with Concert Buses Ireland.\n\n 	✓ Return Bus – Price includes both ways!\n 	✓ E-Ticket (Instant direct to your email)\n 	✘ No Toilets On Bus\n 	✘ No Alcoholic Beverages On Bus\n\n \nPick Up Locations\nMeath:\n\n 	Stop 1: Nannys Bar & Restaurant Duleek\n 	Stop 2: Pillo Hotel Ashbourne\n\nLouth:\n\n 	Stop 1: The Punt Pub Drogheda\n 	Stop 2: The Railway Tavern Bus Stop Drogheda
URL:https://concertbusesireland.ie/event/robbie-williams/
LOCATION:Croke Park\, Jones' Rd\, Drumcondra\, Dublin 3\,\, Ireland
CATEGORIES:Concerts
ATTACH;FMTTYPE=image/jpeg:https://concertbusesireland.ie/wp-content/uploads/2025/01/Banner-26-scaled.jpg
END:VEVENT
END:VCALENDAR