BEGIN:VCALENDAR
VERSION:2.0
PRODID:-// - ECPv6.15.20//NONSGML v1.0//EN
CALSCALE:GREGORIAN
METHOD:PUBLISH
X-ORIGINAL-URL:https://concertbusesireland.ie
X-WR-CALDESC:Events for 
REFRESH-INTERVAL;VALUE=DURATION:PT1H
X-Robots-Tag:noindex
X-PUBLISHED-TTL:PT1H
BEGIN:VTIMEZONE
TZID:Europe/Dublin
BEGIN:STANDARD
TZOFFSETFROM:+0000
TZOFFSETTO:+0100
TZNAME:IST
DTSTART:20250330T010000
END:STANDARD
BEGIN:DAYLIGHT
TZOFFSETFROM:+0100
TZOFFSETTO:+0000
TZNAME:GMT
DTSTART:20251026T010000
END:DAYLIGHT
BEGIN:STANDARD
TZOFFSETFROM:+0000
TZOFFSETTO:+0100
TZNAME:IST
DTSTART:20260329T010000
END:STANDARD
BEGIN:DAYLIGHT
TZOFFSETFROM:+0100
TZOFFSETTO:+0000
TZNAME:GMT
DTSTART:20261025T010000
END:DAYLIGHT
BEGIN:STANDARD
TZOFFSETFROM:+0000
TZOFFSETTO:+0100
TZNAME:IST
DTSTART:20270328T010000
END:STANDARD
BEGIN:DAYLIGHT
TZOFFSETFROM:+0100
TZOFFSETTO:+0000
TZNAME:GMT
DTSTART:20271031T010000
END:DAYLIGHT
END:VTIMEZONE
BEGIN:VEVENT
DTSTART;TZID=Europe/Dublin:20260627T000000
DTEND;TZID=Europe/Dublin:20260627T235959
DTSTAMP:20260424T150044
CREATED:20260119T130805Z
LAST-MODIFIED:20260331T135324Z
UID:10000043-1782518400-1782604799@concertbusesireland.ie
SUMMARY:Concert Bus to Michael Bublé - Malahide Castle Dublin 2026
DESCRIPTION:NOTE: When filling out the address form: \nSTATE: Enter your County (e.g.\, Meath).\nCITY: Enter your Town or Village (e.g.\, Duleek).\nZIP/POSTAL: Enter your Eircode (e.g.\, A65 F4E2)." \nWhere to find your Eircode: https://finder.eircode.ie \n\n\n\n\n\n€25.00\nReturn Bus to Michael Bublé Malahide Castle Dublin 2026 \n\n\n\n\nDon’t miss Michael Bublé's concert at Malahide Castle on June 27\, 2026—it’s a night to remember! Our coach service to the Michael Bublé gig caters to passengers traveling from Duleek and Ashbourne in Meath\, as well as from Drogheda in Louth. With rising hotel rates and petrol costs\, booking a concert coach is the smartest and most convenient way to travel.\n\nOur service to the Michael Bublé's show includes a return trip\, with pricing that covers transportation to and from the event. While one-way tickets aren’t available\, you’re welcome to use this service for a single journey. Simply add a note during booking to inform the driver not to expect you for the return trip.\n\nMake your travel hassle-free and focus on enjoying Michael Bublé live! Book your seat today with Concert Buses Ireland. We are trusted by thousands of happy customers!\n\n 	✓ Return Bus – Price includes both ways!\n 	✓ E-Ticket (Instant direct to your email)\n 	✘ No Toilets On Bus\n 	✘ No Alcoholic Beverages On Bus\n\n \nPick Up Locations\nMeath:\n\n 	Stop 1: Nanny's Bar & Restaurant Duleek (4:00 PM)\n 	Stop 2: Pillo Hotel Ashbourne (4:25 PM)\n\nLouth:\n\n 	Stop 1: The Punt Pub Drogheda (3:30 PM)\n 	Stop 2: The Railway Tavern Drogheda (3:45 PM)\n\n \n\nPlease arrive at your pick-up location at least 15 minutes before the bus departs.\n\nWe offer 24-hour customer support on the day of the event. If you have any trouble finding your bus after the event\, just give us a call at +353-87-239-0222. Book your bus to Michael Bublé now and enjoy convenient coach travel.\n\n\n \n\n\n\n \nFAQs\n \nWhen should I arrive at my pickup location?\n\n 	Be at your pickup location at least 15 minutes before the departure time on your E-Ticket to ensure a smooth boarding process.\n\nHow do I find my pickup location?\n\n 	Visit the Areas We Serve page for information. We only pick up and drop off at the designated locations listed on our website. Your booking confirmation email will also have your pick up location.\n\nCan I drink alcohol on board?\n\n 	Alcohol consumption is not permitted on the bus.\n\nHow do I find the coach after the concert?\n\n 	The coach will depart from the same location where you were dropped off unless instructed otherwise by the driver. Contact us at +353-87-239-0222 if you need assistance.\n\nWill the coach leave without me?\n\n 	The coach will wait up to 30 minutes after the event ends. If you don’t return within that time\, the coach may leave.\n\nWhat if the concert ends later than expected?\n\n 	We adjust our departure times for each event and strive to ensure all passengers return home safely\, even if delays occur.\n\nCan minors travel alone?\n\n 	Passengers under 16 must be accompanied by an adult.\n\nCan I get a refund on my ticket?\n\n 	We do not offer refunds.\n\nWhat happens if the event is canceled?\n\n 	If the event is canceled\, we will provide a full refund for your bus ticket.\n\nDo you sell concert tickets?\n\n 	No\, we only sell tickets for bus transportation to the event.
URL:https://concertbusesireland.ie/event/michael-buble/
LOCATION:Malahide Castle\, Back Rd\, Malahide Demesne\, Malahide\, Co.\, dublin\, Ireland
CATEGORIES:Concerts
ATTACH;FMTTYPE=image/jpeg:https://concertbusesireland.ie/wp-content/uploads/2026/01/Michael_Buble-scaled.jpg
END:VEVENT
BEGIN:VEVENT
DTSTART;TZID=Europe/Dublin:20260627T000000
DTEND;TZID=Europe/Dublin:20260627T235959
DTSTAMP:20260424T150044
CREATED:20260120T144239Z
LAST-MODIFIED:20260331T135333Z
UID:10000054-1782518400-1782604799@concertbusesireland.ie
SUMMARY:Concert Bus to Calvin Harris - Marlay Park | June 27\, 2026
DESCRIPTION:NOTE: When filling out the address form: \nSTATE: Enter your County (e.g.\, Meath).\nCITY: Enter your Town or Village (e.g.\, Duleek).\nZIP/POSTAL: Enter your Eircode (e.g.\, A65 F4E2)." \nWhere to find your Eircode: https://finder.eircode.ie \n\n\n\n\n\n€25.00\nReturn Bus to Calvin Harris Marlay Park Dublin 2026 \n\n\n\n\nDon’t miss Calvin Harris' concert at Marlay Park on June 27\, 2026! Our coach service to the Calvin Harris gig caters to passengers traveling from Duleek and Ashbourne in Meath\, as well as from Drogheda in Louth. With rising hotel rates and petrol costs\, booking a concert coach is the smartest and most convenient way to travel.\n\nOur service to Calvin Harris' show includes a return trip\, with pricing that covers transportation to and from the event. While one-way tickets aren’t available\, you’re welcome to use this service for a single journey. Simply add a note during booking to inform the driver not to expect you for the return trip.\n\nMake your travel hassle-free and focus on enjoying Calvin Harris live! Book your seat today with Concert Buses Ireland. We are trusted by thousands of happy customers!\n\n 	✓ Return Bus – Price includes both ways!\n 	✓ E-Ticket (Instant direct to your email)\n 	✘ No Toilets On Bus\n 	✘ No Alcoholic Beverages On Bus\n\n \nPick Up Locations\nMeath:\n\n 	Stop 1: Nanny's Bar & Restaurant Duleek (3:00 PM)\n 	Stop 2: Pillo Hotel Ashbourne (3:30 PM)\n\nLouth:\n\n 	Stop 1: The Punt Pub Drogheda (2:30 PM)\n 	Stop 2: The Railway Tavern Drogheda (2:45 PM)\n\n \n\nPlease arrive at your pick-up location at least 15 minutes before the bus departs.\n\nWe offer 24-hour customer support on the day of the event. If you have any trouble finding your bus after the event\, just give us a call at +353-87-239-0222. Book your bus to Calvin Harris now and enjoy convenient coach travel.\n\n\n \n\n\n\n \nFAQs\n \nWhen should I arrive at my pickup location?\n\n 	Be at your pickup location at least 15 minutes before the departure time on your E-Ticket to ensure a smooth boarding process.\n\nHow do I find my pickup location?\n\n 	Visit the Areas We Serve page for information. We only pick up and drop off at the designated locations listed on our website. Your booking confirmation email will also have your pick up location.\n\nCan I drink alcohol on board?\n\n 	Alcohol consumption is not permitted on the bus.\n\nHow do I find the coach after the concert?\n\n 	The coach will depart from the same location where you were dropped off unless instructed otherwise by the driver. Contact us at +353-87-239-0222 if you need assistance.\n\nWill the coach leave without me?\n\n 	The coach will wait up to 30 minutes after the event ends. If you don’t return within that time\, the coach may leave.\n\nWhat if the concert ends later than expected?\n\n 	We adjust our departure times for each event and strive to ensure all passengers return home safely\, even if delays occur.\n\nCan minors travel alone?\n\n 	Passengers under 16 must be accompanied by an adult.\n\nCan I get a refund on my ticket?\n\n 	We do not offer refunds.\n\nWhat happens if the event is canceled?\n\n 	If the event is canceled\, we will provide a full refund for your bus ticket.\n\nDo you sell concert tickets?\n\n 	No\, we only sell tickets for bus transportation to the event.
URL:https://concertbusesireland.ie/event/calvin-harris/
LOCATION:Marlay Park\, Grange Rd\, Rathfarnham\, Dublin 16\, D14 Y6X5\,\, Ireland
CATEGORIES:Concerts
ATTACH;FMTTYPE=image/jpeg:https://concertbusesireland.ie/wp-content/uploads/2026/01/Calvin_Harris_Sat-scaled.jpg
END:VEVENT
END:VCALENDAR