BEGIN:VCALENDAR
VERSION:2.0
PRODID:-// - ECPv6.15.20//NONSGML v1.0//EN
CALSCALE:GREGORIAN
METHOD:PUBLISH
X-ORIGINAL-URL:https://concertbusesireland.ie
X-WR-CALDESC:Events for 
REFRESH-INTERVAL;VALUE=DURATION:PT1H
X-Robots-Tag:noindex
X-PUBLISHED-TTL:PT1H
BEGIN:VTIMEZONE
TZID:Europe/Dublin
BEGIN:STANDARD
TZOFFSETFROM:+0000
TZOFFSETTO:+0100
TZNAME:IST
DTSTART:20240331T010000
END:STANDARD
BEGIN:DAYLIGHT
TZOFFSETFROM:+0100
TZOFFSETTO:+0000
TZNAME:GMT
DTSTART:20241027T010000
END:DAYLIGHT
BEGIN:STANDARD
TZOFFSETFROM:+0000
TZOFFSETTO:+0100
TZNAME:IST
DTSTART:20250330T010000
END:STANDARD
BEGIN:DAYLIGHT
TZOFFSETFROM:+0100
TZOFFSETTO:+0000
TZNAME:GMT
DTSTART:20251026T010000
END:DAYLIGHT
BEGIN:STANDARD
TZOFFSETFROM:+0000
TZOFFSETTO:+0100
TZNAME:IST
DTSTART:20260329T010000
END:STANDARD
BEGIN:DAYLIGHT
TZOFFSETFROM:+0100
TZOFFSETTO:+0000
TZNAME:GMT
DTSTART:20261025T010000
END:DAYLIGHT
END:VTIMEZONE
BEGIN:VEVENT
DTSTART;TZID=Europe/Dublin:20250617T170000
DTEND;TZID=Europe/Dublin:20250617T200000
DTSTAMP:20260426T020831
CREATED:20250204T062444Z
LAST-MODIFIED:20250228T150842Z
UID:10000005-1750179600-1750190400@concertbusesireland.ie
SUMMARY:Bus to Charli XCX Malahide Castle Dublin 2025
DESCRIPTION:NOTE: When filling out the address form: \nSTATE: Enter your County (e.g.\, Meath).\nCITY: Enter your Town or Village (e.g.\, Duleek).\nZIP/POSTAL: Enter your Eircode (e.g.\, A65 F4E2).” \nWhere to find your Eircode: https://finder.eircode.ie \n\n\n€25.00\nReturn Bus to Bus to Charli XCX Malahide Castle Dublin 2025 \n\n\nDon’t miss the Charli XCX’s concert at Malahide Castle on June 17\, 2025—it’s a night to remember! With rising hotel rates and petrol costs\, booking a concert coach is the smartest and most convenient way to travel. \nOur service includes a return trip\, with pricing that covers transportation to and from the event. While one-way tickets aren’t available\, you’re welcome to use this service for a single journey. Simply add a note during booking to inform the driver not to expect you for the return trip. \nMake your travel hassle-free and focus on enjoying Charli XCX! Book your seat today with Concert Buses Ireland. \n\n✓ Return Bus – Price includes both ways!\n✓ E-Ticket (Instant direct to your email)\n✘ No Toilets On Bus\n✘ No Alcoholic Beverages On Bus\n\n  \nPick Up Locations\nMeath:\n\nStop 1: Nannys Bar & Restaurant Duleek\nStop 2: Pillo Hotel Ashbourne\n\nLouth:\n\nStop 1: The Punt Pub Drogheda\nStop 2: The Railway Tavern Bus Stop Drogheda
URL:https://concertbusesireland.ie/event/charli-xcx/
LOCATION:Malahide Castle\, Back Rd\, Malahide Demesne\, Malahide\, Co.\, dublin\, Ireland
CATEGORIES:Concerts
ATTACH;FMTTYPE=image/jpeg:https://concertbusesireland.ie/wp-content/uploads/2025/01/Banner-14-scaled.jpg
END:VEVENT
END:VCALENDAR