BEGIN:VCALENDAR
VERSION:2.0
PRODID:-// - ECPv6.15.20//NONSGML v1.0//EN
CALSCALE:GREGORIAN
METHOD:PUBLISH
X-ORIGINAL-URL:https://concertbusesireland.ie
X-WR-CALDESC:Events for 
REFRESH-INTERVAL;VALUE=DURATION:PT1H
X-Robots-Tag:noindex
X-PUBLISHED-TTL:PT1H
BEGIN:VTIMEZONE
TZID:Europe/Dublin
BEGIN:STANDARD
TZOFFSETFROM:+0000
TZOFFSETTO:+0100
TZNAME:IST
DTSTART:20250330T010000
END:STANDARD
BEGIN:DAYLIGHT
TZOFFSETFROM:+0100
TZOFFSETTO:+0000
TZNAME:GMT
DTSTART:20251026T010000
END:DAYLIGHT
BEGIN:STANDARD
TZOFFSETFROM:+0000
TZOFFSETTO:+0100
TZNAME:IST
DTSTART:20260329T010000
END:STANDARD
BEGIN:DAYLIGHT
TZOFFSETFROM:+0100
TZOFFSETTO:+0000
TZNAME:GMT
DTSTART:20261025T010000
END:DAYLIGHT
BEGIN:STANDARD
TZOFFSETFROM:+0000
TZOFFSETTO:+0100
TZNAME:IST
DTSTART:20270328T010000
END:STANDARD
BEGIN:DAYLIGHT
TZOFFSETFROM:+0100
TZOFFSETTO:+0000
TZNAME:GMT
DTSTART:20271031T010000
END:DAYLIGHT
END:VTIMEZONE
BEGIN:VEVENT
DTSTART;TZID=Europe/Dublin:20260316T000000
DTEND;TZID=Europe/Dublin:20260316T235959
DTSTAMP:20260424T232124
CREATED:20260216T082959Z
LAST-MODIFIED:20260217T154205Z
UID:10000038-1773619200-1773705599@concertbusesireland.ie
SUMMARY:Bus to the St. Patrick's Eve Otherside Festival
DESCRIPTION:NOTE: When filling out the address form: \nSTATE: Enter your County (e.g.\, Meath).\nCITY: Enter your Town or Village (e.g.\, Duleek).\nZIP/POSTAL: Enter your Eircode (e.g.\, A65 F4E2).” \nWhere to find your Eircode: https://finder.eircode.ie \nWhen you purchase a ticket on Concert Buses Ireland\, you agree to our Terms & Conditions! \n\n\n€25.00\nDon’t miss the St. Patrick’s Eve Otherside Festival in Rock Farm\, Slane on March 16\, 2026! Our coach service is for fans traveling from Meath and Louth. With rising hotel rates and petrol costs\, booking a concert coach is the smartest and most convenient way to travel. \n\n\nOur service includes a return trip\, with pricing that covers transportation to and from the event. While one-way tickets aren’t available\, you’re welcome to use this service for a single journey. Simply add a note during booking to inform the driver not to expect you for the return trip. \nMake your travel hassle-free and focus on enjoying the concert! Book your seat today with Concert Buses Ireland.  \n\n✓ Return Bus – Price includes both ways!\n✓ E-Ticket (Instant direct to your email)\n✘ No Toilets On Bus\n✘ No Alcoholic Beverages On Bus\n\n  \nPick Up Locations\nMeath:\n\nStop 1: Nanny’s Bar & Restaurant Duleek (1:45 pm)\n\nLouth:\n\nStop 1: The Railway Tavern Drogheda (1:20 pm)\nStop 2: The Punt Pub Drogheda (1:00 pm)\n\nPlease arrive at your pick-up location at least 15 minutes before the bus departs.\nWe offer 24-hour customer support on the day of the event. If you have any trouble finding your bus after the event\, just give us a call at +353-87-239-0222.
URL:https://concertbusesireland.ie/event/otherside-festival/
LOCATION:Rock Farm\, Slane\, Rock Farm\, Slane\, Co. Meath\, C15 FNP4\, Slane\, Ireland
CATEGORIES:Festival
ATTACH;FMTTYPE=image/jpeg:https://concertbusesireland.ie/wp-content/uploads/2025/09/21339f9a-315c-428b-ae76-128eda5902f9.jpg
END:VEVENT
END:VCALENDAR